BEGIN:VCALENDAR
VERSION:2.0
PRODID:SchoolNow
CALSCALE:GREGORIAN
BEGIN:VEVENT
UID:ab621cca-3ac9-11f1-9a6b-0a58a9feac02
DTSTAMP:20260423T094026Z
SUMMARY:4th- 5th Math Academy session 3  classrooms
URL;VALUE=URI:https://www.sundaleschool.com/our-district/calendar/9001724/4
 th-5th-math-academy-session-3-classrooms
DTSTART:20260423T221500Z
DTEND:20260423T231500Z
END:VEVENT
END:VCALENDAR
